Workbook

Sheet 回転速度の計算
A2: 回転中心の位置 | B2: 下 | D2: 上 | E2: 時計回り
A3: 回転方向 | B3: 反時計回り | D3: 下 | E3: 反時計回り
A4: fps | B4: 30 | C4: fps | D4: 右
D5: 左
A6: フレーム番号（小） | B6: 1
A7: 内側の鉄球 | I7: 上 | J7: 右 | K7: 下 | L7: 左
A8: ｘ座標＝ | B8: 100 | C8: pixel | E8: tan | F8: =ATAN2(B11-B8,B12-B9) -> 0.78539816 | G8: =DEGREES(F8) -> 45 | I8: 300 | J8: 400 | K8: 200 | L8: 100
A9: ｙ座標＝ | B9: 300 | C9: pixel | F9: =IF(F8<0,F8+2*PI(),F8) -> 0.78539816 | G9: =DEGREES(F9) -> 45 | I9: 100 | J9: 300 | K9: 400 | L9: 200
A10: 外側の鉄球
A11: ｘ座標＝ | B11: 200 | C11: pixel | I11: 400 | J11: 300 | K11: 100 | L11: 200
A12: ｙ座標＝ | B12: 400 | C12: pixel | I12: 200 | J12: 400 | K12: 300 | L12: 100
A14: フレーム番号（大） | B14: 16 | I14: 16 | J14: 16 | K14: 16 | L14: 16
A15: 内側の鉄球
A16: ｘ座標＝ | B16: 100 | C16: pixel | E16: tan | F16: =ATAN2(B19-B16,B20-B17) -> -0.78539816 | G16: =DEGREES(F16) -> -45 | I16: 200 | J16: 400 | K16: 300 | L16: 100
A17: ｙ座標＝ | B17: 200 | C17: pixel | F17: =IF(F16<0,F16+2*PI(),F16) -> 5.4977871 | G17: =DEGREES(F17) -> 315 | I17: 100 | J17: 200 | K17: 400 | L17: 300
A18: 外側の鉄球
A19: ｘ座標＝ | B19: 200 | C19: pixel | E19: 回転方向 | F19: =IF(B3=E3,-1,1) -> -1 | I19: 100 | J19: 300 | K19: 400 | L19: 200
A20: ｙ座標＝ | B20: 100 | C20: pixel | E20: 角度 | F20: =F19*(F17-F9) -> -4.712389 | I20: 200 | J20: 100 | K20: 300 | L20: 400
E21: 角度 | F21: =IF(F20<-PI(),F20+2*PI(),IF(F20>PI(),F20-2*PI(),F20)) -> 1.5707963 | G21: =DEGREES(F21) -> 90
A22: 回転速度 | B22: =B23*60/(2*PI()) -> 30 | C22: rpm | E22: フレーム数 | F22: =B14-B6+1 -> 16
A23: 1秒間の回転角度 | B23: =$B$24*B4 -> 3.1415927 | C23: rad | E23: =DEGREES($B$23) -> 180 | F23: 度
A24: 1ステップの回転角α | B24: =$F$21/($F$22-1) -> 0.10471976 | C24: rad | E24: =DEGREES($B$24) -> 6 | F24: 度

Sheet データの入力
E1: ムービングファントム | N1: 内側 | R1: 外側 | W1: 画素値 | AC1: 割合
W2: 内側 | Z2: 外側 | AC2: 内側 | AF2: 外側
E3: InsideSignal | F3: OutsideSignal | G3: Signal_min | H3: Noise1 | I3: Noise2 | J3: Noise3 | L3: フレーム | M3: 回転角α | N3: 中心間距離d | O3: 中心角β | P3: 重なる面積 | Q3: 重なる割合 | R3: 中心間距離d | S3: 中心角β | T3: 重なる面積 | U3: 重なる割合 | W3: 理想値 | X3: 測定値 | Y3: 内側Lag | Z3: 理想値 | AA3: 測定値 | AB3: 外側Lag | AC3: 理想値 | AD3: 測定値 | AE3: 内側Lag | AF3: 理想値 | AG3: 測定値 | AH3: 外側Lag
A4: フレームレート | B4: =回転速度の計算!$B$4 -> 30 | C4: fps | L4: -10 | M4: =L4*2*PI()*$B$5/(60*$B$4) -> -1.0471976 | N4: =2*$B$19*SIN(M4/2) -> 0 | O4: =IF(ABS(N4)>$B$18,"-",IF(2*ACOS(N4/$B$18)>PI(),2*PI()-2*ACOS(N4/$B$18),2*ACOS(N4/$B$18))) -> #DIV/0! | P4: =IF(O4="-",0,($B$18/2)^2*(O4-SIN(O4))) -> #DIV/0! | Q4: =P4/$P$14 -> #DIV/0! | R4: =2*$B$20*SIN(M4/2) -> 0 | S4: =IF(ABS(R4)>$B$18,"-",IF(2*ACOS(R4/$B$18)>PI(),2*PI()-2*ACOS(R4/$B$18),2*ACOS(R4/$B$18))) -> #DIV/0! | T4: =IF(S4="-",0,($B$18/2)^2*(S4-SIN(S4))) -> #DIV/0! | U4: =T4/$T$14 -> #DIV/0! | W4: =AVERAGE(H4:J4)-(AVERAGE(H4:J4)-G4)*Q4 -> #DIV/0! | X4: =E4 -> 0 | Y4: =W4-X4 -> #DIV/0! | Z4: =AVERAGE(H4:J4)-(AVERAGE(H4:J4)-G4)*Q4 -> #DIV/0! | AA4: =F4 -> 0 | AB4: =Z4-AA4 -> #DIV/0! | AC4: =1-Q4 -> #DIV/0! | AD4: =1-(AVERAGE(H4:J4)-X4)/(AVERAGE(H4:J4)-G4) -> #DIV/0! | AE4: =AC4-AD4 -> #DIV/0! | AF4: =1-U4 -> #DIV/0! | AG4: =1-(AVERAGE(H4:J4)-AA4)/(AVERAGE(H4:J4)-G4) -> #DIV/0! | AH4: =AF4-AG4 -> #DIV/0!
A5: 回転速度 | B5: =回転速度の計算!$B$22 -> 30 | C5: rpm | L5: -9 | M5: =L5*2*PI()*$B$5/(60*$B$4) -> -0.9424778 | N5: =2*$B$19*SIN(M5/2) -> 0 | O5: =IF(ABS(N5)>$B$18,"-",IF(2*ACOS(N5/$B$18)>PI(),2*PI()-2*ACOS(N5/$B$18),2*ACOS(N5/$B$18))) -> #DIV/0! | P5: =IF(O5="-",0,($B$18/2)^2*(O5-SIN(O5))) -> #DIV/0! | Q5: =P5/$P$14 -> #DIV/0! | R5: =2*$B$20*SIN(M5/2) -> 0 | S5: =IF(ABS(R5)>$B$18,"-",IF(2*ACOS(R5/$B$18)>PI(),2*PI()-2*ACOS(R5/$B$18),2*ACOS(R5/$B$18))) -> #DIV/0! | T5: =IF(S5="-",0,($B$18/2)^2*(S5-SIN(S5))) -> #DIV/0! | U5: =T5/$T$14 -> #DIV/0! | W5: =AVERAGE(H5:J5)-(AVERAGE(H5:J5)-G5)*Q5 -> #DIV/0! | X5: =E5 -> 0 | Y5: =W5-X5 -> #DIV/0! | Z5: =AVERAGE(H5:J5)-(AVERAGE(H5:J5)-G5)*Q5 -> #DIV/0! | AA5: =F5 -> 0 | AB5: =Z5-AA5 -> #DIV/0! | AC5: =1-Q5 -> #DIV/0! | AD5: =1-(AVERAGE(H5:J5)-X5)/(AVERAGE(H5:J5)-G5) -> #DIV/0! | AE5: =AC5-AD5 -> #DIV/0! | AF5: =1-U5 -> #DIV/0! | AG5: =1-(AVERAGE(H5:J5)-AA5)/(AVERAGE(H5:J5)-G5) -> #DIV/0! | AH5: =AF5-AG5 -> #DIV/0!
A6: 1秒間の回転角度 | B6: =回転速度の計算!$B$23 -> 3.1415927 | C6: rad | L6: -8 | M6: =L6*2*PI()*$B$5/(60*$B$4) -> -0.83775804 | N6: =2*$B$19*SIN(M6/2) -> 0 | O6: =IF(ABS(N6)>$B$18,"-",IF(2*ACOS(N6/$B$18)>PI(),2*PI()-2*ACOS(N6/$B$18),2*ACOS(N6/$B$18))) -> #DIV/0! | P6: =IF(O6="-",0,($B$18/2)^2*(O6-SIN(O6))) -> #DIV/0! | Q6: =P6/$P$14 -> #DIV/0! | R6: =2*$B$20*SIN(M6/2) -> 0 | S6: =IF(ABS(R6)>$B$18,"-",IF(2*ACOS(R6/$B$18)>PI(),2*PI()-2*ACOS(R6/$B$18),2*ACOS(R6/$B$18))) -> #DIV/0! | T6: =IF(S6="-",0,($B$18/2)^2*(S6-SIN(S6))) -> #DIV/0! | U6: =T6/$T$14 -> #DIV/0! | W6: =AVERAGE(H6:J6)-(AVERAGE(H6:J6)-G6)*Q6 -> #DIV/0! | X6: =E6 -> 0 | Y6: =W6-X6 -> #DIV/0! | Z6: =AVERAGE(H6:J6)-(AVERAGE(H6:J6)-G6)*Q6 -> #DIV/0! | AA6: =F6 -> 0 | AB6: =Z6-AA6 -> #DIV/0! | AC6: =1-Q6 -> #DIV/0! | AD6: =1-(AVERAGE(H6:J6)-X6)/(AVERAGE(H6:J6)-G6) -> #DIV/0! | AE6: =AC6-AD6 -> #DIV/0! | AF6: =1-U6 -> #DIV/0! | AG6: =1-(AVERAGE(H6:J6)-AA6)/(AVERAGE(H6:J6)-G6) -> #DIV/0! | AH6: =AF6-AG6 -> #DIV/0!
A7: 1ステップの回転角α | B7: =回転速度の計算!$B$24 -> 0.10471976 | C7: rad | L7: -7 | M7: =L7*2*PI()*$B$5/(60*$B$4) -> -0.73303829 | N7: =2*$B$19*SIN(M7/2) -> 0 | O7: =IF(ABS(N7)>$B$18,"-",IF(2*ACOS(N7/$B$18)>PI(),2*PI()-2*ACOS(N7/$B$18),2*ACOS(N7/$B$18))) -> #DIV/0! | P7: =IF(O7="-",0,($B$18/2)^2*(O7-SIN(O7))) -> #DIV/0! | Q7: =P7/$P$14 -> #DIV/0! | R7: =2*$B$20*SIN(M7/2) -> 0 | S7: =IF(ABS(R7)>$B$18,"-",IF(2*ACOS(R7/$B$18)>PI(),2*PI()-2*ACOS(R7/$B$18),2*ACOS(R7/$B$18))) -> #DIV/0! | T7: =IF(S7="-",0,($B$18/2)^2*(S7-SIN(S7))) -> #DIV/0! | U7: =T7/$T$14 -> #DIV/0! | W7: =AVERAGE(H7:J7)-(AVERAGE(H7:J7)-G7)*Q7 -> #DIV/0! | X7: =E7 -> 0 | Y7: =W7-X7 -> #DIV/0! | Z7: =AVERAGE(H7:J7)-(AVERAGE(H7:J7)-G7)*Q7 -> #DIV/0! | AA7: =F7 -> 0 | AB7: =Z7-AA7 -> #DIV/0! | AC7: =1-Q7 -> #DIV/0! | AD7: =1-(AVERAGE(H7:J7)-X7)/(AVERAGE(H7:J7)-G7) -> #DIV/0! | AE7: =AC7-AD7 -> #DIV/0! | AF7: =1-U7 -> #DIV/0! | AG7: =1-(AVERAGE(H7:J7)-AA7)/(AVERAGE(H7:J7)-G7) -> #DIV/0! | AH7: =AF7-AG7 -> #DIV/0!
L8: -6 | M8: =L8*2*PI()*$B$5/(60*$B$4) -> -0.62831853 | N8: =2*$B$19*SIN(M8/2) -> 0 | O8: =IF(ABS(N8)>$B$18,"-",IF(2*ACOS(N8/$B$18)>PI(),2*PI()-2*ACOS(N8/$B$18),2*ACOS(N8/$B$18))) -> #DIV/0! | P8: =IF(O8="-",0,($B$18/2)^2*(O8-SIN(O8))) -> #DIV/0! | Q8: =P8/$P$14 -> #DIV/0! | R8: =2*$B$20*SIN(M8/2) -> 0 | S8: =IF(ABS(R8)>$B$18,"-",IF(2*ACOS(R8/$B$18)>PI(),2*PI()-2*ACOS(R8/$B$18),2*ACOS(R8/$B$18))) -> #DIV/0! | T8: =IF(S8="-",0,($B$18/2)^2*(S8-SIN(S8))) -> #DIV/0! | U8: =T8/$T$14 -> #DIV/0! | W8: =AVERAGE(H8:J8)-(AVERAGE(H8:J8)-G8)*Q8 -> #DIV/0! | X8: =E8 -> 0 | Y8: =W8-X8 -> #DIV/0! | Z8: =AVERAGE(H8:J8)-(AVERAGE(H8:J8)-G8)*Q8 -> #DIV/0! | AA8: =F8 -> 0 | AB8: =Z8-AA8 -> #DIV/0! | AC8: =1-Q8 -> #DIV/0! | AD8: =1-(AVERAGE(H8:J8)-X8)/(AVERAGE(H8:J8)-G8) -> #DIV/0! | AE8: =AC8-AD8 -> #DIV/0! | AF8: =1-U8 -> #DIV/0! | AG8: =1-(AVERAGE(H8:J8)-AA8)/(AVERAGE(H8:J8)-G8) -> #DIV/0! | AH8: =AF8-AG8 -> #DIV/0!
A9: 内側の鉄球 | L9: -5 | M9: =L9*2*PI()*$B$5/(60*$B$4) -> -0.52359878 | N9: =2*$B$19*SIN(M9/2) -> 0 | O9: =IF(ABS(N9)>$B$18,"-",IF(2*ACOS(N9/$B$18)>PI(),2*PI()-2*ACOS(N9/$B$18),2*ACOS(N9/$B$18))) -> #DIV/0! | P9: =IF(O9="-",0,($B$18/2)^2*(O9-SIN(O9))) -> #DIV/0! | Q9: =P9/$P$14 -> #DIV/0! | R9: =2*$B$20*SIN(M9/2) -> 0 | S9: =IF(ABS(R9)>$B$18,"-",IF(2*ACOS(R9/$B$18)>PI(),2*PI()-2*ACOS(R9/$B$18),2*ACOS(R9/$B$18))) -> #DIV/0! | T9: =IF(S9="-",0,($B$18/2)^2*(S9-SIN(S9))) -> #DIV/0! | U9: =T9/$T$14 -> #DIV/0! | W9: =AVERAGE(H9:J9)-(AVERAGE(H9:J9)-G9)*Q9 -> #DIV/0! | X9: =E9 -> 0 | Y9: =W9-X9 -> #DIV/0! | Z9: =AVERAGE(H9:J9)-(AVERAGE(H9:J9)-G9)*Q9 -> #DIV/0! | AA9: =F9 -> 0 | AB9: =Z9-AA9 -> #DIV/0! | AC9: =1-Q9 -> #DIV/0! | AD9: =1-(AVERAGE(H9:J9)-X9)/(AVERAGE(H9:J9)-G9) -> #DIV/0! | AE9: =AC9-AD9 -> #DIV/0! | AF9: =1-U9 -> #DIV/0! | AG9: =1-(AVERAGE(H9:J9)-AA9)/(AVERAGE(H9:J9)-G9) -> #DIV/0! | AH9: =AF9-AG9 -> #DIV/0!
A10: ｘ座標＝ | C10: pixel | L10: -4 | M10: =L10*2*PI()*$B$5/(60*$B$4) -> -0.41887902 | N10: =2*$B$19*SIN(M10/2) -> 0 | O10: =IF(ABS(N10)>$B$18,"-",IF(2*ACOS(N10/$B$18)>PI(),2*PI()-2*ACOS(N10/$B$18),2*ACOS(N10/$B$18))) -> #DIV/0! | P10: =IF(O10="-",0,($B$18/2)^2*(O10-SIN(O10))) -> #DIV/0! | Q10: =P10/$P$14 -> #DIV/0! | R10: =2*$B$20*SIN(M10/2) -> 0 | S10: =IF(ABS(R10)>$B$18,"-",IF(2*ACOS(R10/$B$18)>PI(),2*PI()-2*ACOS(R10/$B$18),2*ACOS(R10/$B$18))) -> #DIV/0! | T10: =IF(S10="-",0,($B$18/2)^2*(S10-SIN(S10))) -> #DIV/0! | U10: =T10/$T$14 -> #DIV/0! | W10: =AVERAGE(H10:J10)-(AVERAGE(H10:J10)-G10)*Q10 -> #DIV/0! | X10: =E10 -> 0 | Y10: =W10-X10 -> #DIV/0! | Z10: =AVERAGE(H10:J10)-(AVERAGE(H10:J10)-G10)*Q10 -> #DIV/0! | AA10: =F10 -> 0 | AB10: =Z10-AA10 -> #DIV/0! | AC10: =1-Q10 -> #DIV/0! | AD10: =1-(AVERAGE(H10:J10)-X10)/(AVERAGE(H10:J10)-G10) -> #DIV/0! | AE10: =AC10-AD10 -> #DIV/0! | AF10: =1-U10 -> #DIV/0! | AG10: =1-(AVERAGE(H10:J10)-AA10)/(AVERAGE(H10:J10)-G10) -> #DIV/0! | AH10: =AF10-AG10 -> #DIV/0!
A11: ｙ座標＝ | C11: pixel | L11: -3 | M11: =L11*2*PI()*$B$5/(60*$B$4) -> -0.31415927 | N11: =2*$B$19*SIN(M11/2) -> 0 | O11: =IF(ABS(N11)>$B$18,"-",IF(2*ACOS(N11/$B$18)>PI(),2*PI()-2*ACOS(N11/$B$18),2*ACOS(N11/$B$18))) -> #DIV/0! | P11: =IF(O11="-",0,($B$18/2)^2*(O11-SIN(O11))) -> #DIV/0! | Q11: =P11/$P$14 -> #DIV/0! | R11: =2*$B$20*SIN(M11/2) -> 0 | S11: =IF(ABS(R11)>$B$18,"-",IF(2*ACOS(R11/$B$18)>PI(),2*PI()-2*ACOS(R11/$B$18),2*ACOS(R11/$B$18))) -> #DIV/0! | T11: =IF(S11="-",0,($B$18/2)^2*(S11-SIN(S11))) -> #DIV/0! | U11: =T11/$T$14 -> #DIV/0! | W11: =AVERAGE(H11:J11)-(AVERAGE(H11:J11)-G11)*Q11 -> #DIV/0! | X11: =E11 -> 0 | Y11: =W11-X11 -> #DIV/0! | Z11: =AVERAGE(H11:J11)-(AVERAGE(H11:J11)-G11)*Q11 -> #DIV/0! | AA11: =F11 -> 0 | AB11: =Z11-AA11 -> #DIV/0! | AC11: =1-Q11 -> #DIV/0! | AD11: =1-(AVERAGE(H11:J11)-X11)/(AVERAGE(H11:J11)-G11) -> #DIV/0! | AE11: =AC11-AD11 -> #DIV/0! | AF11: =1-U11 -> #DIV/0! | AG11: =1-(AVERAGE(H11:J11)-AA11)/(AVERAGE(H11:J11)-G11) -> #DIV/0! | AH11: =AF11-AG11 -> #DIV/0!
L12: -2 | M12: =L12*2*PI()*$B$5/(60*$B$4) -> -0.20943951 | N12: =2*$B$19*SIN(M12/2) -> 0 | O12: =IF(ABS(N12)>$B$18,"-",IF(2*ACOS(N12/$B$18)>PI(),2*PI()-2*ACOS(N12/$B$18),2*ACOS(N12/$B$18))) -> #DIV/0! | P12: =IF(O12="-",0,($B$18/2)^2*(O12-SIN(O12))) -> #DIV/0! | Q12: =P12/$P$14 -> #DIV/0! | R12: =2*$B$20*SIN(M12/2) -> 0 | S12: =IF(ABS(R12)>$B$18,"-",IF(2*ACOS(R12/$B$18)>PI(),2*PI()-2*ACOS(R12/$B$18),2*ACOS(R12/$B$18))) -> #DIV/0! | T12: =IF(S12="-",0,($B$18/2)^2*(S12-SIN(S12))) -> #DIV/0! | U12: =T12/$T$14 -> #DIV/0! | W12: =AVERAGE(H12:J12)-(AVERAGE(H12:J12)-G12)*Q12 -> #DIV/0! | X12: =E12 -> 0 | Y12: =W12-X12 -> #DIV/0! | Z12: =AVERAGE(H12:J12)-(AVERAGE(H12:J12)-G12)*Q12 -> #DIV/0! | AA12: =F12 -> 0 | AB12: =Z12-AA12 -> #DIV/0! | AC12: =1-Q12 -> #DIV/0! | AD12: =1-(AVERAGE(H12:J12)-X12)/(AVERAGE(H12:J12)-G12) -> #DIV/0! | AE12: =AC12-AD12 -> #DIV/0! | AF12: =1-U12 -> #DIV/0! | AG12: =1-(AVERAGE(H12:J12)-AA12)/(AVERAGE(H12:J12)-G12) -> #DIV/0! | AH12: =AF12-AG12 -> #DIV/0!
A13: 外側の鉄球 | L13: -1 | M13: =L13*2*PI()*$B$5/(60*$B$4) -> -0.10471976 | N13: =2*$B$19*SIN(M13/2) -> 0 | O13: =IF(ABS(N13)>$B$18,"-",IF(2*ACOS(N13/$B$18)>PI(),2*PI()-2*ACOS(N13/$B$18),2*ACOS(N13/$B$18))) -> #DIV/0! | P13: =IF(O13="-",0,($B$18/2)^2*(O13-SIN(O13))) -> #DIV/0! | Q13: =P13/$P$14 -> #DIV/0! | R13: =2*$B$20*SIN(M13/2) -> 0 | S13: =IF(ABS(R13)>$B$18,"-",IF(2*ACOS(R13/$B$18)>PI(),2*PI()-2*ACOS(R13/$B$18),2*ACOS(R13/$B$18))) -> #DIV/0! | T13: =IF(S13="-",0,($B$18/2)^2*(S13-SIN(S13))) -> #DIV/0! | U13: =T13/$T$14 -> #DIV/0! | W13: =AVERAGE(H13:J13)-(AVERAGE(H13:J13)-G13)*Q13 -> #DIV/0! | X13: =E13 -> 0 | Y13: =W13-X13 -> #DIV/0! | Z13: =AVERAGE(H13:J13)-(AVERAGE(H13:J13)-G13)*Q13 -> #DIV/0! | AA13: =F13 -> 0 | AB13: =Z13-AA13 -> #DIV/0! | AC13: =1-Q13 -> #DIV/0! | AD13: =1-(AVERAGE(H13:J13)-X13)/(AVERAGE(H13:J13)-G13) -> #DIV/0! | AE13: =AC13-AD13 -> #DIV/0! | AF13: =1-U13 -> #DIV/0! | AG13: =1-(AVERAGE(H13:J13)-AA13)/(AVERAGE(H13:J13)-G13) -> #DIV/0! | AH13: =AF13-AG13 -> #DIV/0!
A14: ｘ座標＝ | C14: pixel | L14: 0 | M14: =L14*2*PI()*$B$5/(60*$B$4) -> 0 | N14: =2*$B$19*SIN(M14/2) -> 0 | O14: =IF(ABS(N14)>$B$18,"-",IF(2*ACOS(N14/$B$18)>PI(),2*PI()-2*ACOS(N14/$B$18),2*ACOS(N14/$B$18))) -> #DIV/0! | P14: =IF(O14="-",0,($B$18/2)^2*(O14-SIN(O14))) -> #DIV/0! | Q14: =P14/$P$14 -> #DIV/0! | R14: =2*$B$20*SIN(M14/2) -> 0 | S14: =IF(ABS(R14)>$B$18,"-",IF(2*ACOS(R14/$B$18)>PI(),2*PI()-2*ACOS(R14/$B$18),2*ACOS(R14/$B$18))) -> #DIV/0! | T14: =IF(S14="-",0,($B$18/2)^2*(S14-SIN(S14))) -> #DIV/0! | U14: =T14/$T$14 -> #DIV/0! | W14: =AVERAGE(H14:J14)-(AVERAGE(H14:J14)-G14)*Q14 -> #DIV/0! | X14: =E14 -> 0 | Y14: =W14-X14 -> #DIV/0! | Z14: =AVERAGE(H14:J14)-(AVERAGE(H14:J14)-G14)*Q14 -> #DIV/0! | AA14: =F14 -> 0 | AB14: =Z14-AA14 -> #DIV/0! | AC14: =1-Q14 -> #DIV/0! | AD14: =1-(AVERAGE(H14:J14)-X14)/(AVERAGE(H14:J14)-G14) -> #DIV/0! | AE14: =AC14-AD14 -> #DIV/0! | AF14: =1-U14 -> #DIV/0! | AG14: =1-(AVERAGE(H14:J14)-AA14)/(AVERAGE(H14:J14)-G14) -> #DIV/0! | AH14: =AF14-AG14 -> #DIV/0!
A15: ｙ座標＝ | C15: pixel | L15: 1 | M15: =L15*2*PI()*$B$5/(60*$B$4) -> 0.10471976 | N15: =2*$B$19*SIN(M15/2) -> 0 | O15: =IF(ABS(N15)>$B$18,"-",IF(2*ACOS(N15/$B$18)>PI(),2*PI()-2*ACOS(N15/$B$18),2*ACOS(N15/$B$18))) -> #DIV/0! | P15: =IF(O15="-",0,($B$18/2)^2*(O15-SIN(O15))) -> #DIV/0! | Q15: =P15/$P$14 -> #DIV/0! | R15: =2*$B$20*SIN(M15/2) -> 0 | S15: =IF(ABS(R15)>$B$18,"-",IF(2*ACOS(R15/$B$18)>PI(),2*PI()-2*ACOS(R15/$B$18),2*ACOS(R15/$B$18))) -> #DIV/0! | T15: =IF(S15="-",0,($B$18/2)^2*(S15-SIN(S15))) -> #DIV/0! | U15: =T15/$T$14 -> #DIV/0! | W15: =AVERAGE(H15:J15)-(AVERAGE(H15:J15)-G15)*Q15 -> #DIV/0! | X15: =E15 -> 0 | Y15: =W15-X15 -> #DIV/0! | Z15: =AVERAGE(H15:J15)-(AVERAGE(H15:J15)-G15)*Q15 -> #DIV/0! | AA15: =F15 -> 0 | AB15: =Z15-AA15 -> #DIV/0! | AC15: =1-Q15 -> #DIV/0! | AD15: =1-(AVERAGE(H15:J15)-X15)/(AVERAGE(H15:J15)-G15) -> #DIV/0! | AE15: =AC15-AD15 -> #DIV/0! | AF15: =1-U15 -> #DIV/0! | AG15: =1-(AVERAGE(H15:J15)-AA15)/(AVERAGE(H15:J15)-G15) -> #DIV/0! | AH15: =AF15-AG15 -> #DIV/0!
L16: 2 | M16: =L16*2*PI()*$B$5/(60*$B$4) -> 0.20943951 | N16: =2*$B$19*SIN(M16/2) -> 0 | O16: =IF(ABS(N16)>$B$18,"-",IF(2*ACOS(N16/$B$18)>PI(),2*PI()-2*ACOS(N16/$B$18),2*ACOS(N16/$B$18))) -> #DIV/0! | P16: =IF(O16="-",0,($B$18/2)^2*(O16-SIN(O16))) -> #DIV/0! | Q16: =P16/$P$14 -> #DIV/0! | R16: =2*$B$20*SIN(M16/2) -> 0 | S16: =IF(ABS(R16)>$B$18,"-",IF(2*ACOS(R16/$B$18)>PI(),2*PI()-2*ACOS(R16/$B$18),2*ACOS(R16/$B$18))) -> #DIV/0! | T16: =IF(S16="-",0,($B$18/2)^2*(S16-SIN(S16))) -> #DIV/0! | U16: =T16/$T$14 -> #DIV/0! | W16: =AVERAGE(H16:J16)-(AVERAGE(H16:J16)-G16)*Q16 -> #DIV/0! | X16: =E16 -> 0 | Y16: =W16-X16 -> #DIV/0! | Z16: =AVERAGE(H16:J16)-(AVERAGE(H16:J16)-G16)*Q16 -> #DIV/0! | AA16: =F16 -> 0 | AB16: =Z16-AA16 -> #DIV/0! | AC16: =1-Q16 -> #DIV/0! | AD16: =1-(AVERAGE(H16:J16)-X16)/(AVERAGE(H16:J16)-G16) -> #DIV/0! | AE16: =AC16-AD16 -> #DIV/0! | AF16: =1-U16 -> #DIV/0! | AG16: =1-(AVERAGE(H16:J16)-AA16)/(AVERAGE(H16:J16)-G16) -> #DIV/0! | AH16: =AF16-AG16 -> #DIV/0!
A17: 鉄球距離 | B17: =SQRT((B10-B14)^2+(B11-B15)^2) -> 0 | C17: pixel | L17: 3 | M17: =L17*2*PI()*$B$5/(60*$B$4) -> 0.31415927 | N17: =2*$B$19*SIN(M17/2) -> 0 | O17: =IF(ABS(N17)>$B$18,"-",IF(2*ACOS(N17/$B$18)>PI(),2*PI()-2*ACOS(N17/$B$18),2*ACOS(N17/$B$18))) -> #DIV/0! | P17: =IF(O17="-",0,($B$18/2)^2*(O17-SIN(O17))) -> #DIV/0! | Q17: =P17/$P$14 -> #DIV/0! | R17: =2*$B$20*SIN(M17/2) -> 0 | S17: =IF(ABS(R17)>$B$18,"-",IF(2*ACOS(R17/$B$18)>PI(),2*PI()-2*ACOS(R17/$B$18),2*ACOS(R17/$B$18))) -> #DIV/0! | T17: =IF(S17="-",0,($B$18/2)^2*(S17-SIN(S17))) -> #DIV/0! | U17: =T17/$T$14 -> #DIV/0! | W17: =AVERAGE(H17:J17)-(AVERAGE(H17:J17)-G17)*Q17 -> #DIV/0! | X17: =E17 -> 0 | Y17: =W17-X17 -> #DIV/0! | Z17: =AVERAGE(H17:J17)-(AVERAGE(H17:J17)-G17)*Q17 -> #DIV/0! | AA17: =F17 -> 0 | AB17: =Z17-AA17 -> #DIV/0! | AC17: =1-Q17 -> #DIV/0! | AD17: =1-(AVERAGE(H17:J17)-X17)/(AVERAGE(H17:J17)-G17) -> #DIV/0! | AE17: =AC17-AD17 -> #DIV/0! | AF17: =1-U17 -> #DIV/0! | AG17: =1-(AVERAGE(H17:J17)-AA17)/(AVERAGE(H17:J17)-G17) -> #DIV/0! | AH17: =AF17-AG17 -> #DIV/0!
A18: 信号の直径 | B18: =B17/12 -> 0 | C18: pixel | L18: 4 | M18: =L18*2*PI()*$B$5/(60*$B$4) -> 0.41887902 | N18: =2*$B$19*SIN(M18/2) -> 0 | O18: =IF(ABS(N18)>$B$18,"-",IF(2*ACOS(N18/$B$18)>PI(),2*PI()-2*ACOS(N18/$B$18),2*ACOS(N18/$B$18))) -> #DIV/0! | P18: =IF(O18="-",0,($B$18/2)^2*(O18-SIN(O18))) -> #DIV/0! | Q18: =P18/$P$14 -> #DIV/0! | R18: =2*$B$20*SIN(M18/2) -> 0 | S18: =IF(ABS(R18)>$B$18,"-",IF(2*ACOS(R18/$B$18)>PI(),2*PI()-2*ACOS(R18/$B$18),2*ACOS(R18/$B$18))) -> #DIV/0! | T18: =IF(S18="-",0,($B$18/2)^2*(S18-SIN(S18))) -> #DIV/0! | U18: =T18/$T$14 -> #DIV/0! | W18: =AVERAGE(H18:J18)-(AVERAGE(H18:J18)-G18)*Q18 -> #DIV/0! | X18: =E18 -> 0 | Y18: =W18-X18 -> #DIV/0! | Z18: =AVERAGE(H18:J18)-(AVERAGE(H18:J18)-G18)*Q18 -> #DIV/0! | AA18: =F18 -> 0 | AB18: =Z18-AA18 -> #DIV/0! | AC18: =1-Q18 -> #DIV/0! | AD18: =1-(AVERAGE(H18:J18)-X18)/(AVERAGE(H18:J18)-G18) -> #DIV/0! | AE18: =AC18-AD18 -> #DIV/0! | AF18: =1-U18 -> #DIV/0! | AG18: =1-(AVERAGE(H18:J18)-AA18)/(AVERAGE(H18:J18)-G18) -> #DIV/0! | AH18: =AF18-AG18 -> #DIV/0!
A19: 信号の回転半径（内側） | B19: =B17*5/6 -> 0 | C19: pixel | L19: 5 | M19: =L19*2*PI()*$B$5/(60*$B$4) -> 0.52359878 | N19: =2*$B$19*SIN(M19/2) -> 0 | O19: =IF(ABS(N19)>$B$18,"-",IF(2*ACOS(N19/$B$18)>PI(),2*PI()-2*ACOS(N19/$B$18),2*ACOS(N19/$B$18))) -> #DIV/0! | P19: =IF(O19="-",0,($B$18/2)^2*(O19-SIN(O19))) -> #DIV/0! | Q19: =P19/$P$14 -> #DIV/0! | R19: =2*$B$20*SIN(M19/2) -> 0 | S19: =IF(ABS(R19)>$B$18,"-",IF(2*ACOS(R19/$B$18)>PI(),2*PI()-2*ACOS(R19/$B$18),2*ACOS(R19/$B$18))) -> #DIV/0! | T19: =IF(S19="-",0,($B$18/2)^2*(S19-SIN(S19))) -> #DIV/0! | U19: =T19/$T$14 -> #DIV/0! | W19: =AVERAGE(H19:J19)-(AVERAGE(H19:J19)-G19)*Q19 -> #DIV/0! | X19: =E19 -> 0 | Y19: =W19-X19 -> #DIV/0! | Z19: =AVERAGE(H19:J19)-(AVERAGE(H19:J19)-G19)*Q19 -> #DIV/0! | AA19: =F19 -> 0 | AB19: =Z19-AA19 -> #DIV/0! | AC19: =1-Q19 -> #DIV/0! | AD19: =1-(AVERAGE(H19:J19)-X19)/(AVERAGE(H19:J19)-G19) -> #DIV/0! | AE19: =AC19-AD19 -> #DIV/0! | AF19: =1-U19 -> #DIV/0! | AG19: =1-(AVERAGE(H19:J19)-AA19)/(AVERAGE(H19:J19)-G19) -> #DIV/0! | AH19: =AF19-AG19 -> #DIV/0!
A20: 信号の回転半径（外側） | B20: =B17*65/60 -> 0 | C20: pixel | L20: 6 | M20: =L20*2*PI()*$B$5/(60*$B$4) -> 0.62831853 | N20: =2*$B$19*SIN(M20/2) -> 0 | O20: =IF(ABS(N20)>$B$18,"-",IF(2*ACOS(N20/$B$18)>PI(),2*PI()-2*ACOS(N20/$B$18),2*ACOS(N20/$B$18))) -> #DIV/0! | P20: =IF(O20="-",0,($B$18/2)^2*(O20-SIN(O20))) -> #DIV/0! | Q20: =P20/$P$14 -> #DIV/0! | R20: =2*$B$20*SIN(M20/2) -> 0 | S20: =IF(ABS(R20)>$B$18,"-",IF(2*ACOS(R20/$B$18)>PI(),2*PI()-2*ACOS(R20/$B$18),2*ACOS(R20/$B$18))) -> #DIV/0! | T20: =IF(S20="-",0,($B$18/2)^2*(S20-SIN(S20))) -> #DIV/0! | U20: =T20/$T$14 -> #DIV/0! | W20: =AVERAGE(H20:J20)-(AVERAGE(H20:J20)-G20)*Q20 -> #DIV/0! | X20: =E20 -> 0 | Y20: =W20-X20 -> #DIV/0! | Z20: =AVERAGE(H20:J20)-(AVERAGE(H20:J20)-G20)*Q20 -> #DIV/0! | AA20: =F20 -> 0 | AB20: =Z20-AA20 -> #DIV/0! | AC20: =1-Q20 -> #DIV/0! | AD20: =1-(AVERAGE(H20:J20)-X20)/(AVERAGE(H20:J20)-G20) -> #DIV/0! | AE20: =AC20-AD20 -> #DIV/0! | AF20: =1-U20 -> #DIV/0! | AG20: =1-(AVERAGE(H20:J20)-AA20)/(AVERAGE(H20:J20)-G20) -> #DIV/0! | AH20: =AF20-AG20 -> #DIV/0!
L21: 7 | M21: =L21*2*PI()*$B$5/(60*$B$4) -> 0.73303829 | N21: =2*$B$19*SIN(M21/2) -> 0 | O21: =IF(ABS(N21)>$B$18,"-",IF(2*ACOS(N21/$B$18)>PI(),2*PI()-2*ACOS(N21/$B$18),2*ACOS(N21/$B$18))) -> #DIV/0! | P21: =IF(O21="-",0,($B$18/2)^2*(O21-SIN(O21))) -> #DIV/0! | Q21: =P21/$P$14 -> #DIV/0! | R21: =2*$B$20*SIN(M21/2) -> 0 | S21: =IF(ABS(R21)>$B$18,"-",IF(2*ACOS(R21/$B$18)>PI(),2*PI()-2*ACOS(R21/$B$18),2*ACOS(R21/$B$18))) -> #DIV/0! | T21: =IF(S21="-",0,($B$18/2)^2*(S21-SIN(S21))) -> #DIV/0! | U21: =T21/$T$14 -> #DIV/0! | W21: =AVERAGE(H21:J21)-(AVERAGE(H21:J21)-G21)*Q21 -> #DIV/0! | X21: =E21 -> 0 | Y21: =W21-X21 -> #DIV/0! | Z21: =AVERAGE(H21:J21)-(AVERAGE(H21:J21)-G21)*Q21 -> #DIV/0! | AA21: =F21 -> 0 | AB21: =Z21-AA21 -> #DIV/0! | AC21: =1-Q21 -> #DIV/0! | AD21: =1-(AVERAGE(H21:J21)-X21)/(AVERAGE(H21:J21)-G21) -> #DIV/0! | AE21: =AC21-AD21 -> #DIV/0! | AF21: =1-U21 -> #DIV/0! | AG21: =1-(AVERAGE(H21:J21)-AA21)/(AVERAGE(H21:J21)-G21) -> #DIV/0! | AH21: =AF21-AG21 -> #DIV/0!
L22: 8 | M22: =L22*2*PI()*$B$5/(60*$B$4) -> 0.83775804 | N22: =2*$B$19*SIN(M22/2) -> 0 | O22: =IF(ABS(N22)>$B$18,"-",IF(2*ACOS(N22/$B$18)>PI(),2*PI()-2*ACOS(N22/$B$18),2*ACOS(N22/$B$18))) -> #DIV/0! | P22: =IF(O22="-",0,($B$18/2)^2*(O22-SIN(O22))) -> #DIV/0! | Q22: =P22/$P$14 -> #DIV/0! | R22: =2*$B$20*SIN(M22/2) -> 0 | S22: =IF(ABS(R22)>$B$18,"-",IF(2*ACOS(R22/$B$18)>PI(),2*PI()-2*ACOS(R22/$B$18),2*ACOS(R22/$B$18))) -> #DIV/0! | T22: =IF(S22="-",0,($B$18/2)^2*(S22-SIN(S22))) -> #DIV/0! | U22: =T22/$T$14 -> #DIV/0! | W22: =AVERAGE(H22:J22)-(AVERAGE(H22:J22)-G22)*Q22 -> #DIV/0! | X22: =E22 -> 0 | Y22: =W22-X22 -> #DIV/0! | Z22: =AVERAGE(H22:J22)-(AVERAGE(H22:J22)-G22)*Q22 -> #DIV/0! | AA22: =F22 -> 0 | AB22: =Z22-AA22 -> #DIV/0! | AC22: =1-Q22 -> #DIV/0! | AD22: =1-(AVERAGE(H22:J22)-X22)/(AVERAGE(H22:J22)-G22) -> #DIV/0! | AE22: =AC22-AD22 -> #DIV/0! | AF22: =1-U22 -> #DIV/0! | AG22: =1-(AVERAGE(H22:J22)-AA22)/(AVERAGE(H22:J22)-G22) -> #DIV/0! | AH22: =AF22-AG22 -> #DIV/0!
L23: 9 | M23: =L23*2*PI()*$B$5/(60*$B$4) -> 0.9424778 | N23: =2*$B$19*SIN(M23/2) -> 0 | O23: =IF(ABS(N23)>$B$18,"-",IF(2*ACOS(N23/$B$18)>PI(),2*PI()-2*ACOS(N23/$B$18),2*ACOS(N23/$B$18))) -> #DIV/0! | P23: =IF(O23="-",0,($B$18/2)^2*(O23-SIN(O23))) -> #DIV/0! | Q23: =P23/$P$14 -> #DIV/0! | R23: =2*$B$20*SIN(M23/2) -> 0 | S23: =IF(ABS(R23)>$B$18,"-",IF(2*ACOS(R23/$B$18)>PI(),2*PI()-2*ACOS(R23/$B$18),2*ACOS(R23/$B$18))) -> #DIV/0! | T23: =IF(S23="-",0,($B$18/2)^2*(S23-SIN(S23))) -> #DIV/0! | U23: =T23/$T$14 -> #DIV/0! | W23: =AVERAGE(H23:J23)-(AVERAGE(H23:J23)-G23)*Q23 -> #DIV/0! | X23: =E23 -> 0 | Y23: =W23-X23 -> #DIV/0! | Z23: =AVERAGE(H23:J23)-(AVERAGE(H23:J23)-G23)*Q23 -> #DIV/0! | AA23: =F23 -> 0 | AB23: =Z23-AA23 -> #DIV/0! | AC23: =1-Q23 -> #DIV/0! | AD23: =1-(AVERAGE(H23:J23)-X23)/(AVERAGE(H23:J23)-G23) -> #DIV/0! | AE23: =AC23-AD23 -> #DIV/0! | AF23: =1-U23 -> #DIV/0! | AG23: =1-(AVERAGE(H23:J23)-AA23)/(AVERAGE(H23:J23)-G23) -> #DIV/0! | AH23: =AF23-AG23 -> #DIV/0!

Sheet 結果の表とグラフ
B1: 画素値 | H1: 相対値
B2: 内側 | E2: 外側 | H2: 内側 | K2: 外側
A3: フレーム | B3: 理想値 | C3: 測定値 | D3: 内側Lag | E3: 理想値 | F3: 測定値 | G3: 外側Lag | H3: 理想値 | I3: 測定値 | J3: 内側Lag | K3: 理想値 | L3: 測定値 | M3: 外側Lag
A4: -10 | B4: =データの入力!W4 -> #DIV/0! | C4: =データの入力!X4 -> 0 | D4: =データの入力!Y4 -> #DIV/0! | E4: =データの入力!Z4 -> #DIV/0! | F4: =データの入力!AA4 -> 0 | G4: =データの入力!AB4 -> #DIV/0! | H4: =データの入力!AC4 -> #DIV/0! | I4: =データの入力!AD4 -> #DIV/0! | ... M4: =データの入力!AH4 -> #DIV/0!
A5: -9 | B5: =データの入力!W5 -> #DIV/0! | C5: =データの入力!X5 -> 0 | D5: =データの入力!Y5 -> #DIV/0! | E5: =データの入力!Z5 -> #DIV/0! | F5: =データの入力!AA5 -> 0 | G5: =データの入力!AB5 -> #DIV/0! | H5: =データの入力!AC5 -> #DIV/0! | I5: =データの入力!AD5 -> #DIV/0! | ... M5: =データの入力!AH5 -> #DIV/0!
A6: -8 | B6: =データの入力!W6 -> #DIV/0! | C6: =データの入力!X6 -> 0 | D6: =データの入力!Y6 -> #DIV/0! | E6: =データの入力!Z6 -> #DIV/0! | F6: =データの入力!AA6 -> 0 | G6: =データの入力!AB6 -> #DIV/0! | H6: =データの入力!AC6 -> #DIV/0! | I6: =データの入力!AD6 -> #DIV/0! | ... M6: =データの入力!AH6 -> #DIV/0!
A7: -7 | B7: =データの入力!W7 -> #DIV/0! | C7: =データの入力!X7 -> 0 | D7: =データの入力!Y7 -> #DIV/0! | E7: =データの入力!Z7 -> #DIV/0! | F7: =データの入力!AA7 -> 0 | G7: =データの入力!AB7 -> #DIV/0! | H7: =データの入力!AC7 -> #DIV/0! | I7: =データの入力!AD7 -> #DIV/0! | ... M7: =データの入力!AH7 -> #DIV/0!
A8: -6 | B8: =データの入力!W8 -> #DIV/0! | C8: =データの入力!X8 -> 0 | D8: =データの入力!Y8 -> #DIV/0! | E8: =データの入力!Z8 -> #DIV/0! | F8: =データの入力!AA8 -> 0 | G8: =データの入力!AB8 -> #DIV/0! | H8: =データの入力!AC8 -> #DIV/0! | I8: =データの入力!AD8 -> #DIV/0! | ... M8: =データの入力!AH8 -> #DIV/0!
A9: -5 | B9: =データの入力!W9 -> #DIV/0! | C9: =データの入力!X9 -> 0 | D9: =データの入力!Y9 -> #DIV/0! | E9: =データの入力!Z9 -> #DIV/0! | F9: =データの入力!AA9 -> 0 | G9: =データの入力!AB9 -> #DIV/0! | H9: =データの入力!AC9 -> #DIV/0! | I9: =データの入力!AD9 -> #DIV/0! | ... M9: =データの入力!AH9 -> #DIV/0!
A10: -4 | B10: =データの入力!W10 -> #DIV/0! | C10: =データの入力!X10 -> 0 | D10: =データの入力!Y10 -> #DIV/0! | E10: =データの入力!Z10 -> #DIV/0! | F10: =データの入力!AA10 -> 0 | G10: =データの入力!AB10 -> #DIV/0! | H10: =データの入力!AC10 -> #DIV/0! | I10: =データの入力!AD10 -> #DIV/0! | ... M10: =データの入力!AH10 -> #DIV/0!
A11: -3 | B11: =データの入力!W11 -> #DIV/0! | C11: =データの入力!X11 -> 0 | D11: =データの入力!Y11 -> #DIV/0! | E11: =データの入力!Z11 -> #DIV/0! | F11: =データの入力!AA11 -> 0 | G11: =データの入力!AB11 -> #DIV/0! | H11: =データの入力!AC11 -> #DIV/0! | I11: =データの入力!AD11 -> #DIV/0! | ... M11: =データの入力!AH11 -> #DIV/0!
A12: -2 | B12: =データの入力!W12 -> #DIV/0! | C12: =データの入力!X12 -> 0 | D12: =データの入力!Y12 -> #DIV/0! | E12: =データの入力!Z12 -> #DIV/0! | F12: =データの入力!AA12 -> 0 | G12: =データの入力!AB12 -> #DIV/0! | H12: =データの入力!AC12 -> #DIV/0! | I12: =データの入力!AD12 -> #DIV/0! | ... M12: =データの入力!AH12 -> #DIV/0!
A13: -1 | B13: =データの入力!W13 -> #DIV/0! | C13: =データの入力!X13 -> 0 | D13: =データの入力!Y13 -> #DIV/0! | E13: =データの入力!Z13 -> #DIV/0! | F13: =データの入力!AA13 -> 0 | G13: =データの入力!AB13 -> #DIV/0! | H13: =データの入力!AC13 -> #DIV/0! | I13: =データの入力!AD13 -> #DIV/0! | ... M13: =データの入力!AH13 -> #DIV/0!
A14: 0 | B14: =データの入力!W14 -> #DIV/0! | C14: =データの入力!X14 -> 0 | D14: =データの入力!Y14 -> #DIV/0! | E14: =データの入力!Z14 -> #DIV/0! | F14: =データの入力!AA14 -> 0 | G14: =データの入力!AB14 -> #DIV/0! | H14: =データの入力!AC14 -> #DIV/0! | I14: =データの入力!AD14 -> #DIV/0! | ... M14: =データの入力!AH14 -> #DIV/0!
A15: 1 | B15: =データの入力!W15 -> #DIV/0! | C15: =データの入力!X15 -> 0 | D15: =データの入力!Y15 -> #DIV/0! | E15: =データの入力!Z15 -> #DIV/0! | F15: =データの入力!AA15 -> 0 | G15: =データの入力!AB15 -> #DIV/0! | H15: =データの入力!AC15 -> #DIV/0! | I15: =データの入力!AD15 -> #DIV/0! | ... M15: =データの入力!AH15 -> #DIV/0!
... A23: 9 | B23: =データの入力!W23 -> #DIV/0! | C23: =データの入力!X23 -> 0 | D23: =データの入力!Y23 -> #DIV/0! | E23: =データの入力!Z23 -> #DIV/0! | F23: =データの入力!AA23 -> 0 | G23: =データの入力!AB23 -> #DIV/0! | H23: =データの入力!AC23 -> #DIV/0! | I23: =データの入力!AD23 -> #DIV/0! | ... M23: =データの入力!AH23 -> #DIV/0!
